BEGIN:VCALENDAR
VERSION:2.0
PRODID:-//Citroenkerho.fi - Automobile Citro&euml;n ry viralliset kotisivut - ECPv6.15.13.1//NONSGML v1.0//EN
CALSCALE:GREGORIAN
METHOD:PUBLISH
X-WR-CALNAME:Citroenkerho.fi - Automobile Citro&euml;n ry viralliset kotisivut
X-ORIGINAL-URL:https://citroenkerho.fi
X-WR-CALDESC:Tapahtumat Citroenkerho.fi - Automobile Citro&euml;n ry viralliset kotisivut
REFRESH-INTERVAL;VALUE=DURATION:PT1H
X-Robots-Tag:noindex
X-PUBLISHED-TTL:PT1H
BEGIN:VTIMEZONE
TZID:Europe/Helsinki
BEGIN:DAYLIGHT
TZOFFSETFROM:+0200
TZOFFSETTO:+0300
TZNAME:EEST
DTSTART:20250330T010000
END:DAYLIGHT
BEGIN:STANDARD
TZOFFSETFROM:+0300
TZOFFSETTO:+0200
TZNAME:EET
DTSTART:20251026T010000
END:STANDARD
BEGIN:DAYLIGHT
TZOFFSETFROM:+0200
TZOFFSETTO:+0300
TZNAME:EEST
DTSTART:20260329T010000
END:DAYLIGHT
BEGIN:STANDARD
TZOFFSETFROM:+0300
TZOFFSETTO:+0200
TZNAME:EET
DTSTART:20261025T010000
END:STANDARD
BEGIN:DAYLIGHT
TZOFFSETFROM:+0200
TZOFFSETTO:+0300
TZNAME:EEST
DTSTART:20270328T010000
END:DAYLIGHT
BEGIN:STANDARD
TZOFFSETFROM:+0300
TZOFFSETTO:+0200
TZNAME:EET
DTSTART:20271031T010000
END:STANDARD
END:VTIMEZONE
BEGIN:VEVENT
DTSTART;TZID=Europe/Helsinki:20260422T183000
DTEND;TZID=Europe/Helsinki:20260422T200000
DTSTAMP:20260422T133336
CREATED:20251121T042945Z
LAST-MODIFIED:20260422T022303Z
UID:16242-1776882600-1776888000@citroenkerho.fi
SUMMARY:ACry Turku Aurassa 22.4.2026 Huom poikkeava aika
DESCRIPTION:ABC:n kabinetissa luonnollisesti. Tervetuloa
URL:https://citroenkerho.fi/kalenteri/acry-turku-puurojuhla-9-12-2025/
LOCATION:Liikenneasema ABC – Aura\, Valtatie 36\, Aura\, 21380
CATEGORIES:ACry,ACry Turku,Aluejaokset
END:VEVENT
END:VCALENDAR