BEGIN:VCALENDAR
VERSION:2.0
PRODID:-//Citroenkerho.fi - Automobile Citro&euml;n ry viralliset kotisivut - ECPv6.15.13.1//NONSGML v1.0//EN
CALSCALE:GREGORIAN
METHOD:PUBLISH
X-ORIGINAL-URL:https://citroenkerho.fi
X-WR-CALDESC:Tapahtumat Citroenkerho.fi - Automobile Citro&euml;n ry viralliset kotisivut
REFRESH-INTERVAL;VALUE=DURATION:PT1H
X-Robots-Tag:noindex
X-PUBLISHED-TTL:PT1H
BEGIN:VTIMEZONE
TZID:Europe/Helsinki
BEGIN:DAYLIGHT
TZOFFSETFROM:+0200
TZOFFSETTO:+0300
TZNAME:EEST
DTSTART:20240331T010000
END:DAYLIGHT
BEGIN:STANDARD
TZOFFSETFROM:+0300
TZOFFSETTO:+0200
TZNAME:EET
DTSTART:20241027T010000
END:STANDARD
BEGIN:DAYLIGHT
TZOFFSETFROM:+0200
TZOFFSETTO:+0300
TZNAME:EEST
DTSTART:20250330T010000
END:DAYLIGHT
BEGIN:STANDARD
TZOFFSETFROM:+0300
TZOFFSETTO:+0200
TZNAME:EET
DTSTART:20251026T010000
END:STANDARD
BEGIN:DAYLIGHT
TZOFFSETFROM:+0200
TZOFFSETTO:+0300
TZNAME:EEST
DTSTART:20260329T010000
END:DAYLIGHT
BEGIN:STANDARD
TZOFFSETFROM:+0300
TZOFFSETTO:+0200
TZNAME:EET
DTSTART:20261025T010000
END:STANDARD
END:VTIMEZONE
BEGIN:VEVENT
DTSTART;TZID=Europe/Helsinki:20250803T120000
DTEND;TZID=Europe/Helsinki:20250803T160000
DTSTAMP:20260419T162735
CREATED:20250729T105405Z
LAST-MODIFIED:20250729T105405Z
UID:16182-1754222400-1754236800@citroenkerho.fi
SUMMARY:CX et GS rendez-vous 2025
DESCRIPTION:Teivaan satama\n3.8.2025 sunnuntaina \nJalkarannantie 19\nLahti. \nTapahtuma alkaa puolenpäivän aikaan!\nRavintola Lokki tarjoaa lounaan jäsenhintaan noin klo 13:30. \nTervetuloa!
URL:https://citroenkerho.fi/kalenteri/cx-et-gs-rendez-vous-2025/
LOCATION:Teivaan Satama\, jalkarannantie 19\, lahti\, 15110\, Suomi
CATEGORIES:ACry,Mallitapaaminen
END:VEVENT
END:VCALENDAR